BEGIN:VCALENDAR
VERSION:2.0
PRODID:-//https://bibliorura.nl///NONSGML kigkonsult.se iCalcreator 2.10.15//
METHOD:PUBLISH
BEGIN:VEVENT
UID:20260423T002941UTC-6602X5pU3s@https://bibliorura.nl/
DTSTAMP:20260423T002941Z
DESCRIPTION:Taalcafé in Roermond https://bibliorura.nl/component/rseventspr
 o/evenement/381-taalcafe-bij-de-terp?Itemid=435
DTSTART:20180614T073000Z
DTEND:20180614T093000Z
LOCATION:de Terp (Gerrit Verhoevenstraat 14\, Roermond)
SUMMARY:Taalcafé bij de Terp
URL:https://bibliorura.nl/component/rseventspro/evenement/381-taalcafe-bij-
 de-terp?Itemid=435
END:VEVENT
END:VCALENDAR
