BEGIN:VCALENDAR
VERSION:2.0
PRODID:-//https://bibliorura.nl///NONSGML kigkonsult.se iCalcreator 2.10.15//
METHOD:PUBLISH
BEGIN:VEVENT
UID:20260420T063528UTC-30079mge1K@https://bibliorura.nl/
DTSTAMP:20260420T063528Z
DESCRIPTION:Een cut-up is een vorm van beeldtaal\, samengesteld uit stukken
  tekst en het is een inspirerende manier om met tekst en (beeld)taal bezig
  te zijn. Door gebruik te maken van collagetechnieken en materialen zoals 
 stickers\, tape\, behangpapier\, karton\, inkt\, papier\, afbeeldingen uit
  tijdschriften\, olie-pastels\, plastic\, krantenpapier en meer\, geef je 
 letterlijk vorm aan bestaande en eigen stukjes tekst.&nbsp\;\nNiet alleen 
 het resultaat van je werk is belangrijk.&nbsp\;Want tijdens de workshop is
  er&nbsp\;ruimte&nbsp\;voor reflectie tijdens onderlinge discussies en is 
 er aandacht voor&nbsp\;terugkerende&nbsp\;patronen.&nbsp\;Deze&nbsp\;biede
 n waardevol inzicht in je leerproces.\nPraktische informatie:Datum: dinsda
 g 19 mei 2026Tijd:&nbsp\;17:30 -20:00 uurLocatie:&nbsp\;de Bibliotheek Bib
 lioruraLeeftijd:&nbsp\;21-99 jaarKosten:&nbsp\;€ 34\,50 (inclusief materia
 alkosten en koffie of thee)&nbsp\;\nDe Masterclass Collage-Cut-up wordt ge
 geven door Rob Benders en is in samenwerking met ECI Cultuurfabriek.\nVoor
  meer informatie en aanmelden:&nbsp\;Masterclass Collage-Cut-up - ECI cult
 uurfabriek https://bibliorura.nl/component/rseventspro/evenement/3652-mast
 erclass-collage-cut-up?Itemid=435
DTSTART:20260519T153000Z
DTEND:20260519T180000Z
LOCATION:de Bibliotheek Bibliorura (Neerstraat 11\, 6041 KA Roermond\, Nede
 rland)
SUMMARY:Masterclass Collage-Cut-up
URL:https://bibliorura.nl/component/rseventspro/evenement/3652-masterclass-
 collage-cut-up?Itemid=435
END:VEVENT
END:VCALENDAR
