BEGIN:VCALENDAR
VERSION:2.0
PRODID:-//https://bibliorura.nl///NONSGML kigkonsult.se iCalcreator 2.10.15//
METHOD:PUBLISH
BEGIN:VEVENT
UID:20260420T064126UTC-12922iIlX1@https://bibliorura.nl/
DTSTAMP:20260420T064126Z
DESCRIPTION:Kalligrafie wordt niet voor niets 'de kunst van het schoonschri
 ft' genoemd. Tijdens de Masterclass Kalligrafie van drie lessen ga je aan 
 de slag met de 26 letters van het alfabet in het Gotische schrift.&nbsp\;
 \nExperimenteer met het schrijven van kleine- en hoofdletters\, met een br
 ede penpunt en inkt\, door te spelen met lay-out en het gebruik van versch
 illende materialen en ontwerp je eigen letterkunst. Laat je inspireren doo
 r voorbeelden van kalligrafie uit de geschiedenis en in het heden.&nbsp\;
 \nPraktische informatie:Datum:&nbsp\;maandag 8\, 15 en 26 juni 2026Tijd:&n
 bsp\;09:30 - 11:30 uurLocatie:&nbsp\;Gorriszaal\, Bibliotheek BiblioruraLe
 eftijd: 21- 99 jaarKosten:&nbsp\;€ 79\,00. (inclusief materiaalkosten en k
 offie of thee)\nDe Masterclass Kalligrafie wordt gegeven door Sjan Knoops 
 en is in samenwerking met ECI Cultuurfabriek.\nVoor meer informatie en aan
 melden:&nbsp\;Masterclass Kalligrafie - ECI cultuurfabriek\n&nbsp\;&nbsp\;
  https://bibliorura.nl/component/rseventspro/evenement/3647-masterclass-ka
 lligrafie?Itemid=435
DTSTART:20260608T073000Z
DTEND:20260608T093000Z
LOCATION:de Bibliotheek Bibliorura (Neerstraat 11\, 6041 KA Roermond\, Nede
 rland)
SUMMARY:Masterclass Kalligrafie
URL:https://bibliorura.nl/component/rseventspro/evenement/3647-masterclass-
 kalligrafie?Itemid=435
END:VEVENT
END:VCALENDAR
